BEGIN:VCALENDAR
VERSION:2.0
PRODID:-//HAWERKAMP 31 E.V - ECPv6.15.15//NONSGML v1.0//EN
CALSCALE:GREGORIAN
METHOD:PUBLISH
X-ORIGINAL-URL:https://am-hawerkamp.de
X-WR-CALDESC:Veranstaltungen für HAWERKAMP 31 E.V
REFRESH-INTERVAL;VALUE=DURATION:PT1H
X-Robots-Tag:noindex
X-PUBLISHED-TTL:PT1H
BEGIN:VTIMEZONE
TZID:UTC
BEGIN:STANDARD
TZOFFSETFROM:+0000
TZOFFSETTO:+0000
TZNAME:UTC
DTSTART:20250101T000000
END:STANDARD
END:VTIMEZONE
BEGIN:VEVENT
DTSTART;TZID=UTC:20260425T150000
DTEND;TZID=UTC:20260425T180000
DTSTAMP:20260425T114812
CREATED:20260329T153525Z
LAST-MODIFIED:20260412T092106Z
UID:4517-1777129200-1777140000@am-hawerkamp.de
SUMMARY:Lenz 26 - Verkaufsausstellung 
DESCRIPTION:Lenz 26 – Verkaufsausstellung \n\nKünstlerInnen vom Hawerkamp mit kleinen- / grossen Formaten und Preisen: Malerei\, Zeichnung\, Druck\, Skulptur\, Multiples… und vieles mehr. Die Flächen wurden verlost\, somit ist die Nachbarschaft der unterschiedlichen Hawerkamp 31 KünstlerInnen zufällig. Jede/r KünstlerIn kann selber entscheiden\, was sie/er zeigen will und auch\, ob sie/er die Werke im Laufe der Ausstellungszeit austauscht. Es lohnt sich öfter vorbeizuschauen.\n\nAusstellungszeit 11.04. – 03.05.2026\nÖffnungszeiten: werden noch bekannt gegeben \nAusstellungshalle Hawerkamp / Am Hawerkamp 31 / 48155 Münster\n \n\nInformationen zu finden unter: www.am-hawerkamp.de\nFacebook: facebook.com/hawerkamp.muenster\nInstagram: instagram.com/hawerkamp_31_e.v\n\nNewsletter: am-hawerkamp.de/news \nTeilnehmende KünstlerInnen:\nPeter H. Adorf / Ruth Bisping / Peter Bröcker / Peter Paul Berg / Angelika Engelhardt / Anne Fellenberg / Lilli Geyer / Hiltrud Huss / Christian Heeck / Simone Jänke / Kristina Kugler / Harald Lieske / Maria Magdalena Lippert / Martina Meyer-Heil / Kirsten Mühlbach / Thomas Prautsch / Markus Pott / Uli Pätsch / Martina Pott / Dirk Sandbaumhüter / Elke Seppmann / Malte Rommel / Monika Scholz / Kiki Schöpper / Heinz Zwernemann /
URL:https://am-hawerkamp.de/event/lenz-26-verkaufsausstellung-4/
LOCATION:Ausstellungshalle Hawerkamp\, Am Hawerkamp 31\, Münster\, 48155
CATEGORIES:Ausstellung
END:VEVENT
BEGIN:VEVENT
DTSTART;TZID=UTC:20260426T120000
DTEND;TZID=UTC:20260426T180000
DTSTAMP:20260425T114812
CREATED:20260329T154319Z
LAST-MODIFIED:20260412T092212Z
UID:4519-1777204800-1777226400@am-hawerkamp.de
SUMMARY:Lenz 26 - Verkaufsausstellung 
DESCRIPTION:Lenz 26 – Verkaufsausstellung\n\nKünstlerInnen vom Hawerkamp mit kleinen- / grossen Formaten und Preisen: Malerei\, Zeichnung\, Druck\, Skulptur\, Multiples… und vieles mehr. Die Flächen wurden verlost\, somit ist die Nachbarschaft der unterschiedlichen Hawerkamp 31 KünstlerInnen zufällig. Jede/r KünstlerIn kann selber entscheiden\, was sie/er zeigen will und auch\, ob sie/er die Werke im Laufe der Ausstellungszeit austauscht. Es lohnt sich öfter vorbeizuschauen.\n\nAusstellungszeit 11.04. – 03.05.2026\nÖffnungszeiten: werden noch bekannt gegeben \nAusstellungshalle Hawerkamp / Am Hawerkamp 31 / 48155 Münster\n \n\nInformationen zu finden unter: www.am-hawerkamp.de\nFacebook: facebook.com/hawerkamp.muenster\nInstagram: instagram.com/hawerkamp_31_e.v\n\nNewsletter: am-hawerkamp.de/news \nTeilnehmende KünstlerInnen:\nPeter H. Adorf / Ruth Bisping / Peter Bröcker / Peter Paul Berg / Angelika Engelhardt / Anne Fellenberg / Lilli Geyer / Hiltrud Huss / Christian Heeck / Simone Jänke / Kristina Kugler / Harald Lieske / Maria Magdalena Lippert / Martina Meyer-Heil / Kirsten Mühlbach / Thomas Prautsch / Markus Pott / Uli Pätsch / Martina Pott / Dirk Sandbaumhüter / Elke Seppmann / Malte Rommel / Monika Scholz / Kiki Schöpper / Heinz Zwernemann /
URL:https://am-hawerkamp.de/event/lenz-26-verkaufsausstellung-5/
LOCATION:Ausstellungshalle Hawerkamp\, Am Hawerkamp 31\, Münster\, 48155
CATEGORIES:Ausstellung
END:VEVENT
BEGIN:VEVENT
DTSTART;TZID=UTC:20260502T150000
DTEND;TZID=UTC:20260502T180000
DTSTAMP:20260425T114812
CREATED:20260329T154335Z
LAST-MODIFIED:20260412T092224Z
UID:4518-1777734000-1777744800@am-hawerkamp.de
SUMMARY:Lenz 26 - Verkaufsausstellung 
DESCRIPTION:Lenz 26 – Verkaufsausstellung \n\nKünstlerInnen vom Hawerkamp mit kleinen- / grossen Formaten und Preisen: Malerei\, Zeichnung\, Druck\, Skulptur\, Multiples… und vieles mehr. Die Flächen wurden verlost\, somit ist die Nachbarschaft der unterschiedlichen Hawerkamp 31 KünstlerInnen zufällig. Jede/r KünstlerIn kann selber entscheiden\, was sie/er zeigen will und auch\, ob sie/er die Werke im Laufe der Ausstellungszeit austauscht. Es lohnt sich öfter vorbeizuschauen.\n\nAusstellungszeit 11.04. – 03.05.2026\nÖffnungszeiten: werden noch bekannt gegeben \nAusstellungshalle Hawerkamp / Am Hawerkamp 31 / 48155 Münster\n \n\nInformationen zu finden unter: www.am-hawerkamp.de\nFacebook: facebook.com/hawerkamp.muenster\nInstagram: instagram.com/hawerkamp_31_e.v\n\nNewsletter: am-hawerkamp.de/news \nTeilnehmende KünstlerInnen:\nPeter H. Adorf / Ruth Bisping / Peter Bröcker / Peter Paul Berg / Angelika Engelhardt / Anne Fellenberg / Lilli Geyer / Hiltrud Huss / Christian Heeck / Simone Jänke / Kristina Kugler / Harald Lieske / Maria Magdalena Lippert / Martina Meyer-Heil / Kirsten Mühlbach / Thomas Prautsch / Markus Pott / Uli Pätsch / Martina Pott / Dirk Sandbaumhüter / Elke Seppmann / Malte Rommel / Monika Scholz / Kiki Schöpper / Heinz Zwernemann /
URL:https://am-hawerkamp.de/event/lenz-26-verkaufsausstellung-6/
LOCATION:Ausstellungshalle Hawerkamp\, Am Hawerkamp 31\, Münster\, 48155
CATEGORIES:Ausstellung
END:VEVENT
BEGIN:VEVENT
DTSTART;TZID=UTC:20260503T120000
DTEND;TZID=UTC:20260503T180000
DTSTAMP:20260425T114812
CREATED:20260329T153600Z
LAST-MODIFIED:20260402T160819Z
UID:4520-1777809600-1777831200@am-hawerkamp.de
SUMMARY:Lenz 26 - Verkaufsausstellung - FINISSAGE mit Fest & Musik
DESCRIPTION:Lenz 26 – Verkaufsausstellung .- Finissage\n\nKünstlerInnen vom Hawerkamp mit kleinen- / grossen Formaten und Preisen: Malerei\, Zeichnung\, Druck\, Skulptur\, Multiples… und vieles mehr. Die Flächen wurden verlost\, somit ist die Nachbarschaft der unterschiedlichen Hawerkamp 31 KünstlerInnen zufällig. Jede/r KünstlerIn kann selber entscheiden\, was sie/er zeigen will und auch\, ob sie/er die Werke im Laufe der Ausstellungszeit austauscht. Es lohnt sich öfter vorbeizuschauen.\n\nAusstellungszeit 11.04. – 03.05.2026\nÖffnungszeiten: werden noch bekannt gegeben \nAusstellungshalle Hawerkamp / Am Hawerkamp 31 / 48155 Münster\n \n\nInformationen zu finden unter: www.am-hawerkamp.de\nFacebook: facebook.com/hawerkamp.muenster\nInstagram: instagram.com/hawerkamp_31_e.v\n\nNewsletter: am-hawerkamp.de/news \nTeilnehmende KünstlerInnen:\nPeter H. Adorf / Ruth Bisping / Peter Bröcker / Peter Paul Berg / Angelika Engelhardt / Anne Fellenberg / Lilli Geyer / Hiltrud Huss / Christian Heeck / Simone Jänke / Kristina Kugler / Harald Lieske / Maria Magdalena Lippert / Martina Meyer-Heil / Kirsten Mühlbach / Thomas Prautsch / Markus Pott / Uli Pätsch / Martina Pott / Dirk Sandbaumhüter / Elke Seppmann / Malte Rommel / Monika Scholz / Kiki Schöpper / Heinz Zwernemann /
URL:https://am-hawerkamp.de/event/lenz-26-verkaufsausstellung-finissage/
LOCATION:Ausstellungshalle Hawerkamp\, Am Hawerkamp 31\, Münster\, 48155
CATEGORIES:Ausstellung,Finissage
END:VEVENT
BEGIN:VEVENT
DTSTART;TZID=UTC:20260603T193000
DTEND;TZID=UTC:20260604T050000
DTSTAMP:20260425T114812
CREATED:20260423T191544Z
LAST-MODIFIED:20260423T191544Z
UID:4587-1780515000-1780549200@am-hawerkamp.de
SUMMARY:Erhaltet den Hawerkamp Festival 2026
DESCRIPTION:Tickets: https://www.localticketing.de/events/36182-erhaltet-den-hawerkamp-festival-2026 \n \n  \nErhaltet den Hawerkamp Festival 2026 – eine große Party mit Live-Musik auf dem gesamten Hawerkampgelände und in allen Clubs! Auf dem Außengelände erwartet euch internationale Küche für die kulinarischen Genüsse. \nWir sind der Hawerkamp 31 e.V.\, ein Mieterverein\, der seit dem 01.01.2013 das Hawerkamp-Gelände in Münster verwaltet. Unser Ziel ist der Erhalt und die Weiterentwicklung des Selbstverwaltungsprojektes sowie die Förderung von Kunst und Kultur auf dem Gelände. Das Selbstverwaltungsprojekt ist in dieser Form einmalig in der Bundesrepublik. Mehr als 50 bildende Künstlerinnen und Künstler\, Handwerksbetriebe\, Clubs\, Konzertveranstalter und Theatergruppen arbeiten auf dem Gelände. \n\nDer Hawerkamp als Kulturstandort schreibt seit über 35 Jahren seine eigene Geschichte und ist ein Ort des öffentlichen Lebens und Arbeitens. Unsere Heterogenität erzeugt produktive Reibung und gegenseitige Energien und Synergien. \n\nWir sind bekannt für Kunstausstellungen\, Konzerte\, Clubfestivals\, Kunstkurse\, Theateraufführungen und das jährliche Hawerkamp Festival.\n\nEinlass: 19:30 Uhr\n\nSputnikhalle (21.00 – 23:30 Uhr)\n„Uwe against the machine“\nAnschließend Party: Rock und Alternative mit Dj Chris\n\nMartina Pott – Offenes Atelier \nHaus G\, 1.OG ( 20:00 – 23:30 Uhr)\n\nAusstellungshalle\n19:30 – 24.00 Uhr Dieses Jahr in der Ausstellungshalle 19.30 – 24 Uhr\nWERKSCHAU – Arbeiten von 1984-2026 von Egbert Lütke Fahle \nTriptychon (19:30 – 00:00 Uhr)\nMixed Media Ausstellung\nDanach Dj Set mit Open end!Live Performance Kunst\n\nVorplatz/ Alter Lockschuppen \nOpen Stage ( Bands aus der Hawerkamp Szene) & Musik der Hawerkampler\, die Künstler legen auf!\nInstallationen\, Performance\, Tanz\, Kampbierwagen\, Foodtrucks  & No Talent Necessary  & Special Guest \nFabians Butze ( 20:00 – 05:00 Uhr)\nElectric Ballroom Spezial mit Dj Frank Möller\n\nKCM  Verein für Queeres Leben (21:00 – 05:00 Uhr)\nSchlager\, Disco\, Pop & Trash \nSputnikhalle Vorplatz ab 22 Uhr – 05:00 Uhr\nReggea chalwa Sound DJ Frank \nSputnik Café (23:30 – 05:00 Uhr)\nDark Star Dark Wave\, Electro & 80er mit Dj Niggels \nFade Club (23.00 – 05:00 Uhr)\n´90er & Indie mit Luna Tom- all Night long \n\nFavela (23.00 – 05:00 Uhr)\nBassmania präsentiert:\nRNZø (Groove) & DMNK (Bounce) & DNS (Hardtrance) & Toxican (Hardtechno) & Hephaistos (Industrial\nBeschreibung: Tauche ein in eine unvergessliche Nacht voller pulsierender Beats und elektrisierender Energie im Favela!Mit einem Lineup\, das von groovigen Vibes von RNZø über die treibenden Sounds von DMNK und DNS bis hin zu den harten Klängen von Toxican und Hephaistos reicht\, erwartet dich ein musikalisches Spektakel der Extraklasse.Gemeinsam feiern wir nicht nur die Musik\, sondern setzen ein Zeichen für den Erhalt des Hawerkamps.Komm vorbei und werde Teil dieser besonderen Mission! \nHouse & Techno\nMit Steve Stix\, DINA8\, Marino\, Skathi\, Nuray Alkan und TΛLΛSIA MAZΞ
URL:https://am-hawerkamp.de/event/erhaltet-den-hawerkamp-festival-2026/
CATEGORIES:Ausstellung,Erhaltet den Hawerkamp-Festival,Konzert,Party,Performance
END:VEVENT
END:VCALENDAR